BEGIN:VCALENDAR
VERSION:2.0
PRODID:-//Middleridge Civic Association - ECPv6.15.20//NONSGML v1.0//EN
CALSCALE:GREGORIAN
METHOD:PUBLISH
X-WR-CALNAME:Middleridge Civic Association
X-ORIGINAL-URL:https://middleridgeffx.org
X-WR-CALDESC:Events for Middleridge Civic Association
REFRESH-INTERVAL;VALUE=DURATION:PT1H
X-Robots-Tag:noindex
X-PUBLISHED-TTL:PT1H
BEGIN:VTIMEZONE
TZID:America/New_York
BEGIN:DAYLIGHT
TZOFFSETFROM:-0500
TZOFFSETTO:-0400
TZNAME:EDT
DTSTART:20230312T070000
END:DAYLIGHT
BEGIN:STANDARD
TZOFFSETFROM:-0400
TZOFFSETTO:-0500
TZNAME:EST
DTSTART:20231105T060000
END:STANDARD
BEGIN:DAYLIGHT
TZOFFSETFROM:-0500
TZOFFSETTO:-0400
TZNAME:EDT
DTSTART:20240310T070000
END:DAYLIGHT
BEGIN:STANDARD
TZOFFSETFROM:-0400
TZOFFSETTO:-0500
TZNAME:EST
DTSTART:20241103T060000
END:STANDARD
BEGIN:DAYLIGHT
TZOFFSETFROM:-0500
TZOFFSETTO:-0400
TZNAME:EDT
DTSTART:20250309T070000
END:DAYLIGHT
BEGIN:STANDARD
TZOFFSETFROM:-0400
TZOFFSETTO:-0500
TZNAME:EST
DTSTART:20251102T060000
END:STANDARD
END:VTIMEZONE
BEGIN:VEVENT
DTSTART;TZID=America/New_York:20240210T090000
DTEND;TZID=America/New_York:20240210T150000
DTSTAMP:20260422T161247
CREATED:20240128T202917Z
LAST-MODIFIED:20240128T202917Z
UID:7296-1707555600-1707577200@middleridgeffx.org
SUMMARY:Valentines for Veterans
DESCRIPTION:See this blog post for all the details.
URL:https://middleridgeffx.org/event/valentines-for-veterans-3/
ATTACH;FMTTYPE=image/png:https://middleridgeffx.org/wp-content/uploads/2024/01/vfv-flyer-2024-square.png
END:VEVENT
END:VCALENDAR